BEGIN:VCALENDAR
PRODID:-//eluceo/ical//2.0/EN
VERSION:2.0
CALSCALE:GREGORIAN
BEGIN:VEVENT
UID:515feaed759eae33ed8c10cda6e55c2a
DTSTAMP:20260421T085641Z
SUMMARY:WBV Gebietsversammlung Taufkirchen
DESCRIPTION:
URL:https://www.mr-wolfratshausen.de/kalenderOLD/wbv-gebietsversammlung-tau
 fkirchen.html
DTSTART:20191105T190000
DTEND:20191105T210000
LOCATION:Gasthof Trenner\, Taufkirchen
END:VEVENT
BEGIN:VTIMEZONE
TZID:Europe/Berlin
BEGIN:STANDARD
DTSTART:20191105T190000
TZNAME:CET
TZOFFSETTO:+0100
TZOFFSETFROM:+0100
END:STANDARD
END:VTIMEZONE
END:VCALENDAR
