BEGIN:VCALENDAR
PRODID:-//eluceo/ical//2.0/EN
VERSION:2.0
CALSCALE:GREGORIAN
BEGIN:VEVENT
UID:0a79605c55723e1dfb0dbe7c3fe2d82d
DTSTAMP:20260421T220211Z
SUMMARY:vlf Holzkirchen 8-tägige Flugreise nach Albanien mit Rolf Oehler
DESCRIPTION:vlf Holzkirchen Flugreise nach Albanien mit Rolf Oehler vom 15.
  bis 22. Mai 2026\nVormerkungen werden bereits entgegen genommen: 08024 46
 039-0 oder -1213\, bei Interesse senden wir Ihnen gerne das ausführliche 
 Programm\nWeitere Infos zur Reise bei Rolf Oehler\, Tel. 08071 40 798\, Ha
 ndy 0157 3906 6304
URL:https://www.mr-wolfratshausen.de/kalenderOLD/vlf-holzkirchen-8-taegige-
 flugreise-nach-albanien-mit-rolf-oehler.html
DTSTART:20260515T000000
DTEND:20260522T235959
LOCATION:Albanien
END:VEVENT
BEGIN:VTIMEZONE
TZID:Europe/Berlin
BEGIN:DAYLIGHT
DTSTART:20260515T000000
TZNAME:CEST
TZOFFSETTO:+0200
TZOFFSETFROM:+0200
END:DAYLIGHT
END:VTIMEZONE
END:VCALENDAR
